BEGIN:VCALENDAR
VERSION:2.0
PRODID:-//OmniMagnetCalendar//EN
BEGIN:VEVENT
DTSTAMP:20190625T195740Z
STATUS:CONFIRMED
UID:hcnortheastohio.clubs.harvard.edu252
DTSTART:20190430T150000Z
DTEND:20190430T150000Z
LOCATION:Cleveland Skating Club, 2500 Kemper Rd. , Cleveland, OH, 44120,
SUMMARY:Spring Dinner: Guest Speaker Katherine Merseth Ed.D. '82
DESCRIPTION:At our Annual Spring Dinner.  Harvard Professor Kay Merseth will give a presentation on “Changing the role of teachers and teaching to increase equity and excellence in schools”.
BEGIN:VALARM
TRIGGER:-PT15M
ACTION:DISPLAY
END:VALARM
TRANSP:OPAQUE
END:VEVENT
END:VCALENDAR
