BEGIN:VCALENDAR
VERSION:2.0
PRODID:-//OmniMagnetCalendar//EN
BEGIN:VEVENT
DTSTAMP:20190625T195740Z
STATUS:CONFIRMED
UID:hcnortheastohio.clubs.harvard.edu305
DTSTART:20231118T170000Z
DTEND:20231118T210000Z
LOCATION:
SUMMARY:The Game Harvard-Yale 2023
DESCRIPTION:On Saturday, November 18, 2023, watch the 139th playing of The Harvard-Yale Game and cheer on the Crimson with fellow alumni and fans
BEGIN:VALARM
TRIGGER:-PT15M
ACTION:DISPLAY
END:VALARM
TRANSP:OPAQUE
END:VEVENT
END:VCALENDAR
