BEGIN:VCALENDAR
VERSION:2.0
PRODID:-//OmniMagnetCalendar//EN
BEGIN:VEVENT
DTSTAMP:20190625T195740Z
STATUS:CONFIRMED
UID:hcnortheastohio.clubs.harvard.edu385
DTSTART:20260711T143000Z
DTEND:20260711T153000Z
LOCATION:The Cleveland Museum of Art, 11150 East Boulevard , Cleveland, OH,  44106, USA,
SUMMARY:July 11: Women's Art History Tour at the Cleveland Museum of Art
DESCRIPTION:Join the Alumnae-i Network for Harvard Women Cleveland and the Club for a guided look at works by women artists
BEGIN:VALARM
TRIGGER:-PT15M
ACTION:DISPLAY
END:VALARM
TRANSP:OPAQUE
END:VEVENT
END:VCALENDAR
